BEGIN:VCALENDAR
VERSION:2.0
PRODID:-//St. Peter and St. Paul&#039;s Catholic Primary School - ECPv6.14.0//NONSGML v1.0//EN
CALSCALE:GREGORIAN
METHOD:PUBLISH
X-ORIGINAL-URL:https://stpetersandstpauls.islington.sch.uk
X-WR-CALDESC:Events for St. Peter and St. Paul&#039;s Catholic Primary School
REFRESH-INTERVAL;VALUE=DURATION:PT1H
X-Robots-Tag:noindex
X-PUBLISHED-TTL:PT1H
BEGIN:VTIMEZONE
TZID:Europe/London
BEGIN:DAYLIGHT
TZOFFSETFROM:+0000
TZOFFSETTO:+0100
TZNAME:BST
DTSTART:20230326T010000
END:DAYLIGHT
BEGIN:STANDARD
TZOFFSETFROM:+0100
TZOFFSETTO:+0000
TZNAME:GMT
DTSTART:20231029T010000
END:STANDARD
END:VTIMEZONE
BEGIN:VEVENT
DTSTART;VALUE=DATE:20230501
DTEND;VALUE=DATE:20230502
DTSTAMP:20260420T093358
CREATED:20230111T165356Z
LAST-MODIFIED:20230111T165356Z
UID:1323-1682899200-1682985599@stpetersandstpauls.islington.sch.uk
SUMMARY:May Bank Holiday
DESCRIPTION:School is closed.
URL:https://stpetersandstpauls.islington.sch.uk/event/may-bank-holiday/
CATEGORIES:Term Dates
END:VEVENT
BEGIN:VEVENT
DTSTART;VALUE=DATE:20230529
DTEND;VALUE=DATE:20230530
DTSTAMP:20260420T093358
CREATED:20230111T165432Z
LAST-MODIFIED:20230111T165432Z
UID:1326-1685318400-1685404799@stpetersandstpauls.islington.sch.uk
SUMMARY:Spring Bank Holiday
DESCRIPTION:School is closed
URL:https://stpetersandstpauls.islington.sch.uk/event/spring-bank-holiday/
CATEGORIES:Term Dates
END:VEVENT
BEGIN:VEVENT
DTSTART;VALUE=DATE:20230529
DTEND;VALUE=DATE:20230603
DTSTAMP:20260420T093358
CREATED:20230111T165600Z
LAST-MODIFIED:20230111T165600Z
UID:1332-1685318400-1685750399@stpetersandstpauls.islington.sch.uk
SUMMARY:Summer Half Term
DESCRIPTION:
URL:https://stpetersandstpauls.islington.sch.uk/event/summer-half-term/
CATEGORIES:Term Dates
END:VEVENT
END:VCALENDAR