BEGIN:VCALENDAR
VERSION:2.0
PRODID:-//St. Peter and St. Paul&#039;s Catholic Primary School - ECPv6.14.0//NONSGML v1.0//EN
CALSCALE:GREGORIAN
METHOD:PUBLISH
X-ORIGINAL-URL:https://stpetersandstpauls.islington.sch.uk
X-WR-CALDESC:Events for St. Peter and St. Paul&#039;s Catholic Primary School
REFRESH-INTERVAL;VALUE=DURATION:PT1H
X-Robots-Tag:noindex
X-PUBLISHED-TTL:PT1H
BEGIN:VTIMEZONE
TZID:Europe/London
BEGIN:DAYLIGHT
TZOFFSETFROM:+0000
TZOFFSETTO:+0100
TZNAME:BST
DTSTART:20230326T010000
END:DAYLIGHT
BEGIN:STANDARD
TZOFFSETFROM:+0100
TZOFFSETTO:+0000
TZNAME:GMT
DTSTART:20231029T010000
END:STANDARD
END:VTIMEZONE
BEGIN:VEVENT
DTSTART;VALUE=DATE:20230719
DTEND;VALUE=DATE:20230720
DTSTAMP:20260420T230212
CREATED:20230111T165529Z
LAST-MODIFIED:20230111T165529Z
UID:1329-1689724800-1689811199@stpetersandstpauls.islington.sch.uk
SUMMARY:Last day of school for Children
DESCRIPTION:School closing at 1.15pm.
URL:https://stpetersandstpauls.islington.sch.uk/event/last-day-of-school-for-children/
CATEGORIES:Term Dates
END:VEVENT
BEGIN:VEVENT
DTSTART;VALUE=DATE:20230720
DTEND;VALUE=DATE:20230721
DTSTAMP:20260420T230212
CREATED:20230111T165636Z
LAST-MODIFIED:20230111T165706Z
UID:1334-1689811200-1689897599@stpetersandstpauls.islington.sch.uk
SUMMARY:INSET Day
DESCRIPTION:School closed for staff training.
URL:https://stpetersandstpauls.islington.sch.uk/event/inset-days/
CATEGORIES:Term Dates
END:VEVENT
BEGIN:VEVENT
DTSTART;VALUE=DATE:20230721
DTEND;VALUE=DATE:20230722
DTSTAMP:20260420T230212
CREATED:20230111T165738Z
LAST-MODIFIED:20230111T165738Z
UID:1338-1689897600-1689983999@stpetersandstpauls.islington.sch.uk
SUMMARY:INSET Day
DESCRIPTION:School closed for staff training.
URL:https://stpetersandstpauls.islington.sch.uk/event/inset-day-2/
CATEGORIES:Term Dates
END:VEVENT
END:VCALENDAR