BEGIN:VCALENDAR
VERSION:2.0
PRODID:-//St. Peter and St. Paul&#039;s Catholic Primary School - ECPv6.14.0//NONSGML v1.0//EN
CALSCALE:GREGORIAN
METHOD:PUBLISH
X-WR-CALNAME:St. Peter and St. Paul&#039;s Catholic Primary School
X-ORIGINAL-URL:https://stpetersandstpauls.islington.sch.uk
X-WR-CALDESC:Events for St. Peter and St. Paul&#039;s Catholic Primary School
REFRESH-INTERVAL;VALUE=DURATION:PT1H
X-Robots-Tag:noindex
X-PUBLISHED-TTL:PT1H
BEGIN:VTIMEZONE
TZID:Europe/London
BEGIN:DAYLIGHT
TZOFFSETFROM:+0000
TZOFFSETTO:+0100
TZNAME:BST
DTSTART:20240331T010000
END:DAYLIGHT
BEGIN:STANDARD
TZOFFSETFROM:+0100
TZOFFSETTO:+0000
TZNAME:GMT
DTSTART:20241027T010000
END:STANDARD
END:VTIMEZONE
BEGIN:VEVENT
DTSTART;TZID=Europe/London:20240308T100000
DTEND;TZID=Europe/London:20240308T113000
DTSTAMP:20260420T083712
CREATED:20240305T115839Z
LAST-MODIFIED:20240305T115840Z
UID:2993-1709892000-1709897400@stpetersandstpauls.islington.sch.uk
SUMMARY:Open Morning for Prospective Reception Children
DESCRIPTION:
URL:https://stpetersandstpauls.islington.sch.uk/event/open-morning-for-prospective-reception-children/
END:VEVENT
BEGIN:VEVENT
DTSTART;TZID=Europe/London:20240329T000000
DTEND;TZID=Europe/London:20240412T235959
DTSTAMP:20260420T083712
CREATED:20240313T155914Z
LAST-MODIFIED:20240313T155915Z
UID:3133-1711670400-1712966399@stpetersandstpauls.islington.sch.uk
SUMMARY:Easter Holidays
DESCRIPTION:
URL:https://stpetersandstpauls.islington.sch.uk/event/easter-holidays/
END:VEVENT
END:VCALENDAR