BEGIN:VCALENDAR
VERSION:2.0
PRODID:-//St. Peter and St. Paul&#039;s Catholic Primary School - ECPv6.14.0//NONSGML v1.0//EN
CALSCALE:GREGORIAN
METHOD:PUBLISH
X-ORIGINAL-URL:https://stpetersandstpauls.islington.sch.uk
X-WR-CALDESC:Events for St. Peter and St. Paul&#039;s Catholic Primary School
REFRESH-INTERVAL;VALUE=DURATION:PT1H
X-Robots-Tag:noindex
X-PUBLISHED-TTL:PT1H
BEGIN:VTIMEZONE
TZID:Europe/London
BEGIN:DAYLIGHT
TZOFFSETFROM:+0000
TZOFFSETTO:+0100
TZNAME:BST
DTSTART:20250330T010000
END:DAYLIGHT
BEGIN:STANDARD
TZOFFSETFROM:+0100
TZOFFSETTO:+0000
TZNAME:GMT
DTSTART:20251026T010000
END:STANDARD
END:VTIMEZONE
BEGIN:VEVENT
DTSTART;TZID=Europe/London:20250114T150000
DTEND;TZID=Europe/London:20250114T150000
DTSTAMP:20260419T135628
CREATED:20250115T141308Z
LAST-MODIFIED:20250115T141310Z
UID:4403-1736866800-1736866800@stpetersandstpauls.islington.sch.uk
SUMMARY:Break for half term
DESCRIPTION:
URL:https://stpetersandstpauls.islington.sch.uk/event/break-for-half-term/
END:VEVENT
BEGIN:VEVENT
DTSTART;TZID=Europe/London:20250123T090000
DTEND;TZID=Europe/London:20250123T100000
DTSTAMP:20260419T135628
CREATED:20250114T132048Z
LAST-MODIFIED:20250114T132050Z
UID:4376-1737622800-1737626400@stpetersandstpauls.islington.sch.uk
SUMMARY:Year 6 Assembly
DESCRIPTION:
URL:https://stpetersandstpauls.islington.sch.uk/event/year-6-assembly/
END:VEVENT
BEGIN:VEVENT
DTSTART;TZID=Europe/London:20250123T150000
DTEND;TZID=Europe/London:20250123T150000
DTSTAMP:20260419T135628
CREATED:20250117T155649Z
LAST-MODIFIED:20250117T155700Z
UID:4421-1737644400-1737644400@stpetersandstpauls.islington.sch.uk
SUMMARY:Nursery Cake Sale
DESCRIPTION:
URL:https://stpetersandstpauls.islington.sch.uk/event/nursery-cake-sale/
END:VEVENT
BEGIN:VEVENT
DTSTART;TZID=Europe/London:20250129T090000
DTEND;TZID=Europe/London:20250129T160000
DTSTAMP:20260419T135628
CREATED:20250115T140801Z
LAST-MODIFIED:20250115T140803Z
UID:4395-1738141200-1738166400@stpetersandstpauls.islington.sch.uk
SUMMARY:Year 2 trip to the Tower of London
DESCRIPTION:
URL:https://stpetersandstpauls.islington.sch.uk/event/year-2-trip-to-the-tower-of-london/
END:VEVENT
BEGIN:VEVENT
DTSTART;TZID=Europe/London:20250130T150000
DTEND;TZID=Europe/London:20250130T150000
DTSTAMP:20260419T135628
CREATED:20250117T155734Z
LAST-MODIFIED:20250117T155736Z
UID:4423-1738249200-1738249200@stpetersandstpauls.islington.sch.uk
SUMMARY:Reception Cake Sale
DESCRIPTION:
URL:https://stpetersandstpauls.islington.sch.uk/event/reception-cake-sale/
END:VEVENT
BEGIN:VEVENT
DTSTART;TZID=Europe/London:20250131T100000
DTEND;TZID=Europe/London:20250131T150000
DTSTAMP:20260419T135628
CREATED:20250115T141158Z
LAST-MODIFIED:20250115T141159Z
UID:4401-1738317600-1738335600@stpetersandstpauls.islington.sch.uk
SUMMARY:Zoolab visit Reception class
DESCRIPTION:
URL:https://stpetersandstpauls.islington.sch.uk/event/zoolab-visit-reception-class/
END:VEVENT
END:VCALENDAR